Workbook
Name SegmentaciónDeDatos_Año: #REF!
Name SegmentaciónDeDatos_Capacidad_del_camión: #REF!
Name SegmentaciónDeDatos_Mes: #REF!
Name SegmentaciónDeDatos_Tipo_camión: #REF!

Sheet Dashboard

Sheet Pivots
A1: Año | B1: (Todas) | C1: =GETPIVOTDATA("Monto gastado",$A$4) -> #REF! | D1: Año | E1: (Todas)
A2: Mes | B2: (Todas) | D2: Tipo gasto | E2: (Todas)
A4: Tipo gasto | B4: Suma de Monto gastado | D4: Mes | E4: Suma de Monto gastado
A5: Llantas | B5: 380100 | D5: Ene | E5: 494100
A6: Reparaciones | B6: 281500 | D6: Feb | E6: 444700
A7: Combustible | B7: 309900 | D7: Mar | E7: 493400
A8: Peajes | B8: 351900 | D8: Abr | E8: 206300
A9: EPPs | B9: 352500 | D9: May | E9: 302900
A10: Lubricantes | B10: 369500 | D10: Jun | E10: 194800
A11: Seguro vehicular | B11: 379400 | D11: Jul | E11: 266100
A12: SOAT | B12: 403900 | D12: Ago | E12: 225300
A13: Personal | B13: 407100 | D13: Set | E13: 178000
A14: Mantenimientos | B14: 416900 | D14: Oct | E14: 263000
A15: Total general | B15: 3552700 | D15: Nov | E15: 220500
D16: Dic | E16: 263600
D17: Total general | E17: 3552700

Sheet Detalle
A1: Fecha del gasto | B1: Tipo camión | C1: Capacidad del camión | D1: Tipo gasto | E1: Monto gastado | F1: Mes | G1: Año
A2: =RANDBETWEEN(43101,43555) -> 43410 | B2: =VLOOKUP(RANDBETWEEN(1,7),Tablas!$K$3:$L$9,2,0) -> Van | C2: =VLOOKUP(RANDBETWEEN(1,8),Tablas!$H$3:$I$10,2,0) -> 8 Tn | D2: =VLOOKUP(RANDBETWEEN(1,10),Tablas!$E$3:$F$12,2,0) -> Peajes | E2: =RANDBETWEEN(10,100)*100 -> 8000 | F2: =VLOOKUP(MONTH(Detalle!$A2),Tablas!$B$3:$C$14,2,0) -> Nov | G2: =YEAR(Detalle!$A2) -> 2018
A3: =RANDBETWEEN(43101,43555) -> 43111 | B3: =VLOOKUP(RANDBETWEEN(1,7),Tablas!$K$3:$L$9,2,0) -> Doble eje | C3: =VLOOKUP(RANDBETWEEN(1,8),Tablas!$H$3:$I$10,2,0) -> 10 Tn | D3: =VLOOKUP(RANDBETWEEN(1,10),Tablas!$E$3:$F$12,2,0) -> SOAT | E3: =RANDBETWEEN(10,100)*100 -> 9900 | F3: =VLOOKUP(MONTH(Detalle!$A3),Tablas!$B$3:$C$14,2,0) -> Ene | G3: =YEAR(Detalle!$A3) -> 2018
A4: =RANDBETWEEN(43101,43555) -> 43423 | B4: =VLOOKUP(RANDBETWEEN(1,7),Tablas!$K$3:$L$9,2,0) -> Doble eje | C4: =VLOOKUP(RANDBETWEEN(1,8),Tablas!$H$3:$I$10,2,0) -> 5 Tn | D4: =VLOOKUP(RANDBETWEEN(1,10),Tablas!$E$3:$F$12,2,0) -> Reparaciones | E4: =RANDBETWEEN(10,100)*100 -> 8900 | F4: =VLOOKUP(MONTH(Detalle!$A4),Tablas!$B$3:$C$14,2,0) -> Nov | G4: =YEAR(Detalle!$A4) -> 2018
A5: =RANDBETWEEN(43101,43555) -> 43412 | B5: =VLOOKUP(RANDBETWEEN(1,7),Tablas!$K$3:$L$9,2,0) -> Plataforma | C5: =VLOOKUP(RANDBETWEEN(1,8),Tablas!$H$3:$I$10,2,0) -> 30 Tn | D5: =VLOOKUP(RANDBETWEEN(1,10),Tablas!$E$3:$F$12,2,0) -> Reparaciones | E5: =RANDBETWEEN(10,100)*100 -> 4700 | F5: =VLOOKUP(MONTH(Detalle!$A5),Tablas!$B$3:$C$14,2,0) -> Nov | G5: =YEAR(Detalle!$A5) -> 2018
A6: =RANDBETWEEN(43101,43555) -> 43257 | B6: =VLOOKUP(RANDBETWEEN(1,7),Tablas!$K$3:$L$9,2,0) -> Furgon | C6: =VLOOKUP(RANDBETWEEN(1,8),Tablas!$H$3:$I$10,2,0) -> 15 Tn | D6: =VLOOKUP(RANDBETWEEN(1,10),Tablas!$E$3:$F$12,2,0) -> Personal | E6: =RANDBETWEEN(10,100)*100 -> 8200 | F6: =VLOOKUP(MONTH(Detalle!$A6),Tablas!$B$3:$C$14,2,0) -> Jun | G6: =YEAR(Detalle!$A6) -> 2018
A7: =RANDBETWEEN(43101,43555) -> 43396 | B7: =VLOOKUP(RANDBETWEEN(1,7),Tablas!$K$3:$L$9,2,0) -> Ala de gaviota | C7: =VLOOKUP(RANDBETWEEN(1,8),Tablas!$H$3:$I$10,2,0) -> 10 Tn | D7: =VLOOKUP(RANDBETWEEN(1,10),Tablas!$E$3:$F$12,2,0) -> EPPs | E7: =RANDBETWEEN(10,100)*100 -> 6200 | F7: =VLOOKUP(MONTH(Detalle!$A7),Tablas!$B$3:$C$14,2,0) -> Oct | G7: =YEAR(Detalle!$A7) -> 2018
A8: =RANDBETWEEN(43101,43555) -> 43469 | B8: =VLOOKUP(RANDBETWEEN(1,7),Tablas!$K$3:$L$9,2,0) -> Doble eje | C8: =VLOOKUP(RANDBETWEEN(1,8),Tablas!$H$3:$I$10,2,0) -> 3 Tn | D8: =VLOOKUP(RANDBETWEEN(1,10),Tablas!$E$3:$F$12,2,0) -> Peajes | E8: =RANDBETWEEN(10,100)*100 -> 9000 | F8: =VLOOKUP(MONTH(Detalle!$A8),Tablas!$B$3:$C$14,2,0) -> Ene | G8: =YEAR(Detalle!$A8) -> 2019
A9: =RANDBETWEEN(43101,43555) -> 43288 | B9: =VLOOKUP(RANDBETWEEN(1,7),Tablas!$K$3:$L$9,2,0) -> Doble eje | C9: =VLOOKUP(RANDBETWEEN(1,8),Tablas!$H$3:$I$10,2,0) -> 8 Tn | D9: =VLOOKUP(RANDBETWEEN(1,10),Tablas!$E$3:$F$12,2,0) -> SOAT | E9: =RANDBETWEEN(10,100)*100 -> 2300 | F9: =VLOOKUP(MONTH(Detalle!$A9),Tablas!$B$3:$C$14,2,0) -> Jul | G9: =YEAR(Detalle!$A9) -> 2018
A10: =RANDBETWEEN(43101,43555) -> 43209 | B10: =VLOOKUP(RANDBETWEEN(1,7),Tablas!$K$3:$L$9,2,0) -> Furgon | C10: =VLOOKUP(RANDBETWEEN(1,8),Tablas!$H$3:$I$10,2,0) -> 3 Tn | D10: =VLOOKUP(RANDBETWEEN(1,10),Tablas!$E$3:$F$12,2,0) -> Lubricantes | E10: =RANDBETWEEN(10,100)*100 -> 7100 | F10: =VLOOKUP(MONTH(Detalle!$A10),Tablas!$B$3:$C$14,2,0) -> Abr | G10: =YEAR(Detalle!$A10) -> 2018
A11: =RANDBETWEEN(43101,43555) -> 43509 | B11: =VLOOKUP(RANDBETWEEN(1,7),Tablas!$K$3:$L$9,2,0) -> Furgon | C11: =VLOOKUP(RANDBETWEEN(1,8),Tablas!$H$3:$I$10,2,0) -> 30 Tn | D11: =VLOOKUP(RANDBETWEEN(1,10),Tablas!$E$3:$F$12,2,0) -> Combustible | E11: =RANDBETWEEN(10,100)*100 -> 7100 | F11: =VLOOKUP(MONTH(Detalle!$A11),Tablas!$B$3:$C$14,2,0) -> Feb | G11: =YEAR(Detalle!$A11) -> 2019
A12: =RANDBETWEEN(43101,43555) -> 43445 | B12: =VLOOKUP(RANDBETWEEN(1,7),Tablas!$K$3:$L$9,2,0) -> Plataforma | C12: =VLOOKUP(RANDBETWEEN(1,8),Tablas!$H$3:$I$10,2,0) -> 10 Tn | D12: =VLOOKUP(RANDBETWEEN(1,10),Tablas!$E$3:$F$12,2,0) -> EPPs | E12: =RANDBETWEEN(10,100)*100 -> 1100 | F12: =VLOOKUP(MONTH(Detalle!$A12),Tablas!$B$3:$C$14,2,0) -> Dic | G12: =YEAR(Detalle!$A12) -> 2018
A13: =RANDBETWEEN(43101,43555) -> 43361 | B13: =VLOOKUP(RANDBETWEEN(1,7),Tablas!$K$3:$L$9,2,0) -> Van | C13: =VLOOKUP(RANDBETWEEN(1,8),Tablas!$H$3:$I$10,2,0) -> 15 Tn | D13: =VLOOKUP(RANDBETWEEN(1,10),Tablas!$E$3:$F$12,2,0) -> Lubricantes | E13: =RANDBETWEEN(10,100)*100 -> 1500 | F13: =VLOOKUP(MONTH(Detalle!$A13),Tablas!$B$3:$C$14,2,0) -> Set | G13: =YEAR(Detalle!$A13) -> 2018
... A661: =RANDBETWEEN(43101,43555) -> 43393 | B661: =VLOOKUP(RANDBETWEEN(1,7),Tablas!$K$3:$L$9,2,0) -> Camioneta | C661: =VLOOKUP(RANDBETWEEN(1,8),Tablas!$H$3:$I$10,2,0) -> 5 Tn | D661: =VLOOKUP(RANDBETWEEN(1,10),Tablas!$E$3:$F$12,2,0) -> Seguro vehicular | E661: =RANDBETWEEN(10,100)*100 -> 8500 | F661: =VLOOKUP(MONTH(Detalle!$A661),Tablas!$B$3:$C$14,2,0) -> Oct | G661: =YEAR(Detalle!$A661) -> 2018

Sheet Tablas
B3: 1 | C3: Ene | E3: 1 | F3: Combustible | H3: 1 | I3: 1 Tn | K3: 1 | L3: Furgon
B4: 2 | C4: Feb | E4: 2 | F4: Llantas | H4: 2 | I4: 2 Tn | K4: 2 | L4: Plataforma
B5: 3 | C5: Mar | E5: 3 | F5: Lubricantes | H5: 3 | I5: 3 Tn | K5: 3 | L5: Doble eje
B6: 4 | C6: Abr | E6: 4 | F6: Reparaciones | H6: 4 | I6: 5 Tn | K6: 4 | L6: Furgoneta
B7: 5 | C7: May | E7: 5 | F7: Mantenimientos | H7: 5 | I7: 8 Tn | K7: 5 | L7: Camioneta
B8: 6 | C8: Jun | E8: 6 | F8: Seguro vehicular | H8: 6 | I8: 10 Tn | K8: 6 | L8: Van
B9: 7 | C9: Jul | E9: 7 | F9: SOAT | H9: 7 | I9: 15 Tn | K9: 7 | L9: Ala de gaviota
B10: 8 | C10: Ago | E10: 8 | F10: Peajes | H10: 8 | I10: 30 Tn
B11: 9 | C11: Set | E11: 9 | F11: EPPs
B12: 10 | C12: Oct | E12: 10 | F12: Personal
B13: 11 | C13: Nov
B14: 12 | C14: Dic
